BEGIN:VCALENDAR
VERSION:2.0
PRODID:-//Bürgerschützenverein Kattermuth - Mettingen - ECPv6.15.20//NONSGML v1.0//EN
CALSCALE:GREGORIAN
METHOD:PUBLISH
X-ORIGINAL-URL:https://bsv-kattermuth.de
X-WR-CALDESC:Veranstaltungen für Bürgerschützenverein Kattermuth - Mettingen
REFRESH-INTERVAL;VALUE=DURATION:PT1H
X-Robots-Tag:noindex
X-PUBLISHED-TTL:PT1H
BEGIN:VTIMEZONE
TZID:Europe/Berlin
BEGIN:DAYLIGHT
TZOFFSETFROM:+0100
TZOFFSETTO:+0200
TZNAME:CEST
DTSTART:20250330T010000
END:DAYLIGHT
BEGIN:STANDARD
TZOFFSETFROM:+0200
TZOFFSETTO:+0100
TZNAME:CET
DTSTART:20251026T010000
END:STANDARD
BEGIN:DAYLIGHT
TZOFFSETFROM:+0100
TZOFFSETTO:+0200
TZNAME:CEST
DTSTART:20260329T010000
END:DAYLIGHT
BEGIN:STANDARD
TZOFFSETFROM:+0200
TZOFFSETTO:+0100
TZNAME:CET
DTSTART:20261025T010000
END:STANDARD
BEGIN:DAYLIGHT
TZOFFSETFROM:+0100
TZOFFSETTO:+0200
TZNAME:CEST
DTSTART:20270328T010000
END:DAYLIGHT
BEGIN:STANDARD
TZOFFSETFROM:+0200
TZOFFSETTO:+0100
TZNAME:CET
DTSTART:20271031T010000
END:STANDARD
END:VTIMEZONE
BEGIN:VEVENT
DTSTART;TZID=Europe/Berlin:20261106T180000
DTEND;TZID=Europe/Berlin:20261106T220000
DTSTAMP:20260421T190727
CREATED:20250301T093721Z
LAST-MODIFIED:20260125T090126Z
UID:537-1793988000-1794002400@bsv-kattermuth.de
SUMMARY:Endschießen / LG Jugend / Kurzwaffe / KK Einzel
DESCRIPTION:Endschießen / LG Jugend / Kurzwaffe / KK Einzel \nLG Jugend ab 17 Uhr \nKurzwaffe 18 bis 19.30 \nLG Einzel  ab 19:0 \nKK Einzel ab 19:30 \n 
URL:https://bsv-kattermuth.de/event/endschiessen-lg-jugend-kurzwaffe-kk-einzel/
LOCATION:Schießkeller\, Nordstr. 20\, Mettingen\, NRW\, 49497\, Deutschland
CATEGORIES:Gemeindemeisterschaften
END:VEVENT
BEGIN:VEVENT
DTSTART;TZID=Europe/Berlin:20261107T143000
DTEND;TZID=Europe/Berlin:20261107T183000
DTSTAMP:20260421T190727
CREATED:20260125T090332Z
LAST-MODIFIED:20260125T090332Z
UID:590-1794061800-1794076200@bsv-kattermuth.de
SUMMARY:Endschiessen KK & LG Mannschaft
DESCRIPTION:KK-Mannschaftsmeisterschaft SA 07.11.2026 ab 14.30 Uhr\nLG-Zweistellungskampf SA 07.11.2026 ab 14.30 Uhr\nFür die Schießen erfolgt rechtzeitig eine entsprechende Einladung.
URL:https://bsv-kattermuth.de/event/endschiessen-kk-lg-mannschaft/
LOCATION:Schießkeller\, Nordstr. 20\, Mettingen\, NRW\, 49497\, Deutschland
CATEGORIES:Gemeindemeisterschaften
END:VEVENT
BEGIN:VEVENT
DTSTART;TZID=Europe/Berlin:20261115T170000
DTEND;TZID=Europe/Berlin:20261115T200000
DTSTAMP:20260421T190727
CREATED:20260125T091930Z
LAST-MODIFIED:20260125T091930Z
UID:609-1794762000-1794772800@bsv-kattermuth.de
SUMMARY:Generalversammlung Schützenverein
DESCRIPTION:Generalversammlung Schützenverein \n 
URL:https://bsv-kattermuth.de/event/generalversammlung-schuetzenverein/
END:VEVENT
END:VCALENDAR