BEGIN:VCALENDAR
VERSION:2.0
PRODID:-//Bürgerschützenverein Kattermuth - Mettingen - ECPv6.15.20//NONSGML v1.0//EN
CALSCALE:GREGORIAN
METHOD:PUBLISH
X-ORIGINAL-URL:https://bsv-kattermuth.de
X-WR-CALDESC:Veranstaltungen für Bürgerschützenverein Kattermuth - Mettingen
REFRESH-INTERVAL;VALUE=DURATION:PT1H
X-Robots-Tag:noindex
X-PUBLISHED-TTL:PT1H
BEGIN:VTIMEZONE
TZID:Europe/Berlin
BEGIN:DAYLIGHT
TZOFFSETFROM:+0100
TZOFFSETTO:+0200
TZNAME:CEST
DTSTART:20250330T010000
END:DAYLIGHT
BEGIN:STANDARD
TZOFFSETFROM:+0200
TZOFFSETTO:+0100
TZNAME:CET
DTSTART:20251026T010000
END:STANDARD
BEGIN:DAYLIGHT
TZOFFSETFROM:+0100
TZOFFSETTO:+0200
TZNAME:CEST
DTSTART:20260329T010000
END:DAYLIGHT
BEGIN:STANDARD
TZOFFSETFROM:+0200
TZOFFSETTO:+0100
TZNAME:CET
DTSTART:20261025T010000
END:STANDARD
BEGIN:DAYLIGHT
TZOFFSETFROM:+0100
TZOFFSETTO:+0200
TZNAME:CEST
DTSTART:20270328T010000
END:DAYLIGHT
BEGIN:STANDARD
TZOFFSETFROM:+0200
TZOFFSETTO:+0100
TZNAME:CET
DTSTART:20271031T010000
END:STANDARD
END:VTIMEZONE
BEGIN:VEVENT
DTSTART;TZID=Europe/Berlin:20261006T194500
DTEND;TZID=Europe/Berlin:20261006T210000
DTSTAMP:20260421T190554
CREATED:20260125T085159Z
LAST-MODIFIED:20260125T085200Z
UID:566-1791315900-1791320400@bsv-kattermuth.de
SUMMARY:LG Gemeindemeister Querenberg
DESCRIPTION:LG Gemeindemeister Querenberg im TSP
URL:https://bsv-kattermuth.de/event/lg-gemeindemeister-querenberg/
LOCATION:Schießkeller\, Nordstr. 20\, Mettingen\, NRW\, 49497\, Deutschland
CATEGORIES:Gemeindemeisterschaften
END:VEVENT
END:VCALENDAR