BEGIN:VCALENDAR
VERSION:2.0
PRODID:-//Bürgerschützenverein Kattermuth - Mettingen - ECPv6.15.20//NONSGML v1.0//EN
CALSCALE:GREGORIAN
METHOD:PUBLISH
X-WR-CALNAME:Bürgerschützenverein Kattermuth - Mettingen
X-ORIGINAL-URL:https://bsv-kattermuth.de
X-WR-CALDESC:Veranstaltungen für Bürgerschützenverein Kattermuth - Mettingen
REFRESH-INTERVAL;VALUE=DURATION:PT1H
X-Robots-Tag:noindex
X-PUBLISHED-TTL:PT1H
BEGIN:VTIMEZONE
TZID:Europe/Berlin
BEGIN:DAYLIGHT
TZOFFSETFROM:+0100
TZOFFSETTO:+0200
TZNAME:CEST
DTSTART:20250330T010000
END:DAYLIGHT
BEGIN:STANDARD
TZOFFSETFROM:+0200
TZOFFSETTO:+0100
TZNAME:CET
DTSTART:20251026T010000
END:STANDARD
BEGIN:DAYLIGHT
TZOFFSETFROM:+0100
TZOFFSETTO:+0200
TZNAME:CEST
DTSTART:20260329T010000
END:DAYLIGHT
BEGIN:STANDARD
TZOFFSETFROM:+0200
TZOFFSETTO:+0100
TZNAME:CET
DTSTART:20261025T010000
END:STANDARD
BEGIN:DAYLIGHT
TZOFFSETFROM:+0100
TZOFFSETTO:+0200
TZNAME:CEST
DTSTART:20270328T010000
END:DAYLIGHT
BEGIN:STANDARD
TZOFFSETFROM:+0200
TZOFFSETTO:+0100
TZNAME:CET
DTSTART:20271031T010000
END:STANDARD
END:VTIMEZONE
BEGIN:VEVENT
DTSTART;VALUE=DATE:20260627
DTEND;VALUE=DATE:20260628
DTSTAMP:20260421T131717
CREATED:20260125T091735Z
LAST-MODIFIED:20260125T091735Z
UID:603-1782518400-1782604799@bsv-kattermuth.de
SUMMARY:Jubiläum 150 Jahre Muckhorst
DESCRIPTION:Jubiläum 150 Jahre Muckhorst
URL:https://bsv-kattermuth.de/event/jubilaeum-150-jahre-muckhorst/
LOCATION:Schiessstand Muckhorst
CATEGORIES:Schützenfest
END:VEVENT
END:VCALENDAR